BEGIN:VCALENDAR
VERSION:2.0
PRODID:-//La Maison Allemande - ECPv6.15.20//NONSGML v1.0//EN
CALSCALE:GREGORIAN
METHOD:PUBLISH
X-WR-CALNAME:La Maison Allemande
X-ORIGINAL-URL:https://lamaisonallemande-marseille.com
X-WR-CALDESC:Évènements pour La Maison Allemande
REFRESH-INTERVAL;VALUE=DURATION:PT1H
X-Robots-Tag:noindex
X-PUBLISHED-TTL:PT1H
BEGIN:VTIMEZONE
TZID:Europe/Paris
BEGIN:DAYLIGHT
TZOFFSETFROM:+0100
TZOFFSETTO:+0200
TZNAME:CEST
DTSTART:20250330T010000
END:DAYLIGHT
BEGIN:STANDARD
TZOFFSETFROM:+0200
TZOFFSETTO:+0100
TZNAME:CET
DTSTART:20251026T010000
END:STANDARD
BEGIN:DAYLIGHT
TZOFFSETFROM:+0100
TZOFFSETTO:+0200
TZNAME:CEST
DTSTART:20260329T010000
END:DAYLIGHT
BEGIN:STANDARD
TZOFFSETFROM:+0200
TZOFFSETTO:+0100
TZNAME:CET
DTSTART:20261025T010000
END:STANDARD
BEGIN:DAYLIGHT
TZOFFSETFROM:+0100
TZOFFSETTO:+0200
TZNAME:CEST
DTSTART:20270328T010000
END:DAYLIGHT
BEGIN:STANDARD
TZOFFSETFROM:+0200
TZOFFSETTO:+0100
TZNAME:CET
DTSTART:20271031T010000
END:STANDARD
END:VTIMEZONE
BEGIN:VEVENT
DTSTART;TZID=Europe/Paris:20260507T180000
DTEND;TZID=Europe/Paris:20260507T180000
DTSTAMP:20260425T001020
CREATED:20260423T111834Z
LAST-MODIFIED:20260423T111834Z
UID:146-1778176800-1778176800@lamaisonallemande-marseille.com
SUMMARY:Sprachcafé - Café Linguistique Mai
DESCRIPTION:En collaboration avec nos amis du Goethe-Institut de Marseille\, nous vous invitons chaleureusement au prochain café linguistique à la Casa Consolat ! Selon le principe du tandem\, c’est l’occasion d’améliorer vos compétences linguistiques en allemand et en français et faire de nouvelles connaissances. \nInscription obligatoire (places limitées) auprès de Nicole Hammer (nicolehammermarseille@gmail.com) ou Stéphanie Krämer (stephanie.kraemer@goethe.de). \nNous vous prions d’arriver à l’heure et de nous prévenir en cas d’empêchement afin que les places libérées puissent être réattribuées. Veuillez également indiquer votre langue maternelle lors de l’inscription. \nLa participation est gratuite (les boissons sont à votre charge).
URL:https://lamaisonallemande-marseille.com/event/sprachcafe-cafe-linguistique-mai/
LOCATION:Casa Consolat\, 1\, rue Consolat\, Marseille\, Provence Alpes Côte d'Azur\, 13001\, France
CATEGORIES:Sprachcafé - Café linguistique
ORGANIZER;CN="La Maison Allemande":MAILTO:lamaisonallemande@gmail.com
END:VEVENT
END:VCALENDAR