BEGIN:VCALENDAR
VERSION:2.0
PRODID:-//La Maison Allemande - ECPv6.15.20//NONSGML v1.0//EN
CALSCALE:GREGORIAN
METHOD:PUBLISH
X-ORIGINAL-URL:https://lamaisonallemande-marseille.com
X-WR-CALDESC:Évènements pour La Maison Allemande
REFRESH-INTERVAL;VALUE=DURATION:PT1H
X-Robots-Tag:noindex
X-PUBLISHED-TTL:PT1H
BEGIN:VTIMEZONE
TZID:Europe/Paris
BEGIN:DAYLIGHT
TZOFFSETFROM:+0100
TZOFFSETTO:+0200
TZNAME:CEST
DTSTART:20250330T010000
END:DAYLIGHT
BEGIN:STANDARD
TZOFFSETFROM:+0200
TZOFFSETTO:+0100
TZNAME:CET
DTSTART:20251026T010000
END:STANDARD
BEGIN:DAYLIGHT
TZOFFSETFROM:+0100
TZOFFSETTO:+0200
TZNAME:CEST
DTSTART:20260329T010000
END:DAYLIGHT
BEGIN:STANDARD
TZOFFSETFROM:+0200
TZOFFSETTO:+0100
TZNAME:CET
DTSTART:20261025T010000
END:STANDARD
BEGIN:DAYLIGHT
TZOFFSETFROM:+0100
TZOFFSETTO:+0200
TZNAME:CEST
DTSTART:20270328T010000
END:DAYLIGHT
BEGIN:STANDARD
TZOFFSETFROM:+0200
TZOFFSETTO:+0100
TZNAME:CET
DTSTART:20271031T010000
END:STANDARD
END:VTIMEZONE
BEGIN:VEVENT
DTSTART;TZID=Europe/Paris:20260516T170000
DTEND;TZID=Europe/Paris:20260516T170000
DTSTAMP:20260424T235357
CREATED:20260423T111842Z
LAST-MODIFIED:20260423T111842Z
UID:134-1778950800-1778950800@lamaisonallemande-marseille.com
SUMMARY:Cinéma Apéro : Barbara
DESCRIPTION:Été 1980. Barbara est chirurgien-pédiatre dans un hôpital de Berlin-Est. Soupçonnée de vouloir passer à l’Ouest\, elle est mutée par les autorités dans une clinique de province\, au milieu de nulle part. Tandis que son amant Jörg\, qui vit à l’Ouest\, prépare son évasion\, Barbara est troublée par l’attention que lui porte André\, le médecin-chef de l’hôpital. La confiance professionnelle qu’il lui accorde\, ses attentions\, son sourire… Est-il amoureux d’elle ? Est-il chargé de l’espionner ? \nUn film de Christian Petzold parut en 2012 \nSource image : https://www.kino-zeit.de/sites/default/files/styles/plakat/public/news/bild39305.jpg?itok=RPYi6_sz 
URL:https://lamaisonallemande-marseille.com/event/cinema-apero-barbara/
LOCATION:La Maison Allemande\, 1\, rue du Dr. Jean Fiolle\, Marseille\, Provence Alpes Côtes d'Azur\, 13006\, France
CATEGORIES:Cinéma apéro
ORGANIZER;CN="La Maison Allemande":MAILTO:lamaisonallemande@gmail.com
END:VEVENT
END:VCALENDAR