BEGIN:VCALENDAR
VERSION:2.0
PRODID:-//La Maison Allemande - ECPv6.15.20//NONSGML v1.0//EN
CALSCALE:GREGORIAN
METHOD:PUBLISH
X-ORIGINAL-URL:https://lamaisonallemande-marseille.com
X-WR-CALDESC:Évènements pour La Maison Allemande
REFRESH-INTERVAL;VALUE=DURATION:PT1H
X-Robots-Tag:noindex
X-PUBLISHED-TTL:PT1H
BEGIN:VTIMEZONE
TZID:Europe/Paris
BEGIN:DAYLIGHT
TZOFFSETFROM:+0100
TZOFFSETTO:+0200
TZNAME:CEST
DTSTART:20250330T010000
END:DAYLIGHT
BEGIN:STANDARD
TZOFFSETFROM:+0200
TZOFFSETTO:+0100
TZNAME:CET
DTSTART:20251026T010000
END:STANDARD
BEGIN:DAYLIGHT
TZOFFSETFROM:+0100
TZOFFSETTO:+0200
TZNAME:CEST
DTSTART:20260329T010000
END:DAYLIGHT
BEGIN:STANDARD
TZOFFSETFROM:+0200
TZOFFSETTO:+0100
TZNAME:CET
DTSTART:20261025T010000
END:STANDARD
BEGIN:DAYLIGHT
TZOFFSETFROM:+0100
TZOFFSETTO:+0200
TZNAME:CEST
DTSTART:20270328T010000
END:DAYLIGHT
BEGIN:STANDARD
TZOFFSETFROM:+0200
TZOFFSETTO:+0100
TZNAME:CET
DTSTART:20271031T010000
END:STANDARD
END:VTIMEZONE
BEGIN:VEVENT
DTSTART;VALUE=DATE:20260410
DTEND;VALUE=DATE:20260601
DTSTAMP:20260424T220001
CREATED:20260423T111750Z
LAST-MODIFIED:20260423T111750Z
UID:153-1775779200-1780271999@lamaisonallemande-marseille.com
SUMMARY:Exposition : Lire la Mer
DESCRIPTION:En coopération avec Eins-a-spirit\, la Maison Allemande vous propose de découvrir l’exposition « Lire La Mer » de l’artiste Michèle Reby\, disponible dans nos locaux jusqu’au 31 mai. \nEntre le bleu de la Méditerranée et le rose des couchers de soleil\, l’artiste peintre Michèle Reby tisse un univers vibrant\, empreint de lumière et de douceur. \nFormée pendant cinq ans aux Beaux-Arts à l’Acadadémie der Bildenden Künste de Munich\, l’artiste revendique un héritage pictural où la couleur est au centre de tout. \n« Le bleu\, c’est la mer\, et le rose\, les couchers de soleil à la veille de la Tramontane » confie-t-elle.
URL:https://lamaisonallemande-marseille.com/event/exposition-lire-la-mer/
LOCATION:La Maison Allemande\, 1\, rue du Dr. Jean Fiolle\, Marseille\, Provence Alpes Côtes d'Azur\, 13006\, France
CATEGORIES:Exposition
ORGANIZER;CN="La Maison Allemande":MAILTO:lamaisonallemande@gmail.com
END:VEVENT
BEGIN:VEVENT
DTSTART;TZID=Europe/Paris:20260427T160000
DTEND;TZID=Europe/Paris:20260608T173000
DTSTAMP:20260424T220001
CREATED:20260423T111818Z
LAST-MODIFIED:20260424T102122Z
UID:155-1777305600-1780939800@lamaisonallemande-marseille.com
SUMMARY:Atelier thématique :  « Plaisir de l'art et de la lecture au bord de la mer »
DESCRIPTION:La mer est un lieu de nostalgie et une surface de projection – elle a fasciné les écrivains et les peintres de tous les temps\, tels que Goethe\, Bettina von Arnim\, Heinrich Heine et Theodor Storm. Tout comme Caspar David Friedrich\, Max Beckmann ou Max Liebermann … \nEnsemble\, nous nous plongerons dans l’histoire artistique et culturelle de la mer à travers une sélection d’œuvres. \nAvril – Juin  2026. Le lundi  de 16h00 à 17h30 \n\n27 avril : J.W. von Goethe\, Bettina von Arnim\, Joseph von Eichendorff\n4 Mai : Theodor Fontante & Theodor Storm & Christian Morgenstern\n11 Mai : Joachim Ringelnatz\, Wilhelm Hauff & Heinrich Heine\n18 Mai : Max Beckmann & Max Liebermann\n1 Juin : Caspar David Friedrich\n8 Juin : Emil Nolde\n\n 
URL:https://lamaisonallemande-marseille.com/event/atelier-thematique-plaisir-de-lart-et-de-la-lecture-au-bord-de-la-mer/
LOCATION:La Maison Allemande\, 1\, rue du Dr. Jean Fiolle\, Marseille\, Provence Alpes Côtes d'Azur\, 13006\, France
CATEGORIES:Atelier thématique
ORGANIZER;CN="La Maison Allemande":MAILTO:lamaisonallemande@gmail.com
END:VEVENT
BEGIN:VEVENT
DTSTART;TZID=Europe/Paris:20260516T170000
DTEND;TZID=Europe/Paris:20260516T170000
DTSTAMP:20260424T220001
CREATED:20260423T111842Z
LAST-MODIFIED:20260423T111842Z
UID:134-1778950800-1778950800@lamaisonallemande-marseille.com
SUMMARY:Cinéma Apéro : Barbara
DESCRIPTION:Été 1980. Barbara est chirurgien-pédiatre dans un hôpital de Berlin-Est. Soupçonnée de vouloir passer à l’Ouest\, elle est mutée par les autorités dans une clinique de province\, au milieu de nulle part. Tandis que son amant Jörg\, qui vit à l’Ouest\, prépare son évasion\, Barbara est troublée par l’attention que lui porte André\, le médecin-chef de l’hôpital. La confiance professionnelle qu’il lui accorde\, ses attentions\, son sourire… Est-il amoureux d’elle ? Est-il chargé de l’espionner ? \nUn film de Christian Petzold parut en 2012 \nSource image : https://www.kino-zeit.de/sites/default/files/styles/plakat/public/news/bild39305.jpg?itok=RPYi6_sz 
URL:https://lamaisonallemande-marseille.com/event/cinema-apero-barbara/
LOCATION:La Maison Allemande\, 1\, rue du Dr. Jean Fiolle\, Marseille\, Provence Alpes Côtes d'Azur\, 13006\, France
CATEGORIES:Cinéma apéro
ORGANIZER;CN="La Maison Allemande":MAILTO:lamaisonallemande@gmail.com
END:VEVENT
END:VCALENDAR